BEGIN:VCALENDAR
VERSION:2.0
PRODID:-//Carmelite Mission Tanzania - ECPv6.15.17.1//NONSGML v1.0//EN
CALSCALE:GREGORIAN
METHOD:PUBLISH
X-ORIGINAL-URL:https://carmelitemissionstz.org
X-WR-CALDESC:Events for Carmelite Mission Tanzania
REFRESH-INTERVAL;VALUE=DURATION:PT1H
X-Robots-Tag:noindex
X-PUBLISHED-TTL:PT1H
BEGIN:VTIMEZONE
TZID:Europe/Moscow
BEGIN:STANDARD
TZOFFSETFROM:+0300
TZOFFSETTO:+0300
TZNAME:MSK
DTSTART:20230101T000000
END:STANDARD
END:VTIMEZONE
BEGIN:VEVENT
DTSTART;VALUE=DATE:20240813
DTEND;VALUE=DATE:20240814
DTSTAMP:20260421T163619
CREATED:20230908T194555Z
LAST-MODIFIED:20230908T194555Z
UID:12052-1723507200-1723593599@carmelitemissionstz.org
SUMMARY:Fr Peter Carol Chami OCD
DESCRIPTION:
URL:https://carmelitemissionstz.org/event/fr-peter-carol-chami-ocd/
CATEGORIES:Carmelite Friars' Birthday Birthday
ATTACH;FMTTYPE=image/png:https://carmelitemissionstz.org/wp-content/uploads/2023/08/Chami.png
ORGANIZER;CN="Carmelite Fathers%2C Tanzania":MAILTO:carmelitemissionstz@gmail.com
END:VEVENT
BEGIN:VEVENT
DTSTART;VALUE=DATE:20240819
DTEND;VALUE=DATE:20240820
DTSTAMP:20260421T163619
CREATED:20230908T194702Z
LAST-MODIFIED:20230908T194702Z
UID:12054-1724025600-1724111999@carmelitemissionstz.org
SUMMARY:Fr Urban Aidan Dimona OCD
DESCRIPTION:
URL:https://carmelitemissionstz.org/event/fr-urban-aidan-dimona-ocd/
CATEGORIES:Carmelite Friars' Birthday Birthday
ATTACH;FMTTYPE=image/png:https://carmelitemissionstz.org/wp-content/uploads/2023/08/Urban.png
ORGANIZER;CN="Carmelite Fathers%2C Tanzania":MAILTO:carmelitemissionstz@gmail.com
END:VEVENT
BEGIN:VEVENT
DTSTART;VALUE=DATE:20240821
DTEND;VALUE=DATE:20240822
DTSTAMP:20260421T163619
CREATED:20230908T194750Z
LAST-MODIFIED:20230908T194750Z
UID:12056-1724198400-1724284799@carmelitemissionstz.org
SUMMARY:Fr Sunil Kishore Menezes OCD
DESCRIPTION:
URL:https://carmelitemissionstz.org/event/fr-sunil-kishore-menezes-ocd/
CATEGORIES:Carmelite Friars' Birthday Birthday
ATTACH;FMTTYPE=image/png:https://carmelitemissionstz.org/wp-content/uploads/2023/08/Sunil.png
ORGANIZER;CN="Carmelite Fathers%2C Tanzania":MAILTO:carmelitemissionstz@gmail.com
END:VEVENT
BEGIN:VEVENT
DTSTART;VALUE=DATE:20240825
DTEND;VALUE=DATE:20240826
DTSTAMP:20260421T163619
CREATED:20230908T194858Z
LAST-MODIFIED:20230908T194858Z
UID:12058-1724544000-1724630399@carmelitemissionstz.org
SUMMARY:Fr Raymond Sangu OCD
DESCRIPTION:
URL:https://carmelitemissionstz.org/event/fr-raymond-sangu-ocd/
CATEGORIES:Carmelite Friars' Birthday Birthday
ATTACH;FMTTYPE=image/png:https://carmelitemissionstz.org/wp-content/uploads/2023/09/Raymond-Sangu.png
ORGANIZER;CN="Carmelite Fathers%2C Tanzania":MAILTO:carmelitemissionstz@gmail.com
END:VEVENT
END:VCALENDAR