BEGIN:VCALENDAR
VERSION:2.0
PRODID:-//Carmelite Mission Tanzania - ECPv6.15.17.1//NONSGML v1.0//EN
CALSCALE:GREGORIAN
METHOD:PUBLISH
X-WR-CALNAME:Carmelite Mission Tanzania
X-ORIGINAL-URL:https://carmelitemissionstz.org
X-WR-CALDESC:Events for Carmelite Mission Tanzania
REFRESH-INTERVAL;VALUE=DURATION:PT1H
X-Robots-Tag:noindex
X-PUBLISHED-TTL:PT1H
BEGIN:VTIMEZONE
TZID:Europe/Moscow
BEGIN:STANDARD
TZOFFSETFROM:+0300
TZOFFSETTO:+0300
TZNAME:MSK
DTSTART:20220101T000000
END:STANDARD
END:VTIMEZONE
BEGIN:VEVENT
DTSTART;VALUE=DATE:20230402
DTEND;VALUE=DATE:20230403
DTSTAMP:20260422T005542
CREATED:20230908T193627Z
LAST-MODIFIED:20230908T193627Z
UID:12034-1680393600-1680479999@carmelitemissionstz.org
SUMMARY:Fr Ronald Sequeira OCD
DESCRIPTION:
URL:https://carmelitemissionstz.org/event/fr-ronald-sequeira-ocd/
CATEGORIES:Carmelite Friars' Birthday Birthday
ATTACH;FMTTYPE=image/png:https://carmelitemissionstz.org/wp-content/uploads/2023/08/Ronald-Sequeira.png
ORGANIZER;CN="Carmelite Fathers%2C Tanzania":MAILTO:carmelitemissionstz@gmail.com
END:VEVENT
BEGIN:VEVENT
DTSTART;VALUE=DATE:20230312
DTEND;VALUE=DATE:20230313
DTSTAMP:20260422T005542
CREATED:20230908T193453Z
LAST-MODIFIED:20230908T193453Z
UID:12032-1678579200-1678665599@carmelitemissionstz.org
SUMMARY:Fr Sylvester Msemwa OCD
DESCRIPTION:
URL:https://carmelitemissionstz.org/event/fr-sylvester-msemwa-ocd/
CATEGORIES:Carmelite Friars' Birthday Birthday
ATTACH;FMTTYPE=image/png:https://carmelitemissionstz.org/wp-content/uploads/2023/08/Sylvester.png
ORGANIZER;CN="Carmelite Fathers%2C Tanzania":MAILTO:carmelitemissionstz@gmail.com
END:VEVENT
BEGIN:VEVENT
DTSTART;VALUE=DATE:20230214
DTEND;VALUE=DATE:20230215
DTSTAMP:20260422T005542
CREATED:20230908T193353Z
LAST-MODIFIED:20230908T193353Z
UID:12030-1676332800-1676419199@carmelitemissionstz.org
SUMMARY:Fr Joyson Saldanha OCD
DESCRIPTION:
URL:https://carmelitemissionstz.org/event/fr-joyson-saldanha-ocd/
CATEGORIES:Carmelite Friars' Birthday Birthday
ATTACH;FMTTYPE=image/png:https://carmelitemissionstz.org/wp-content/uploads/2023/08/Joyson-OCD.png
ORGANIZER;CN="Carmelite Fathers%2C Tanzania":MAILTO:carmelitemissionstz@gmail.com
END:VEVENT
BEGIN:VEVENT
DTSTART;VALUE=DATE:20230121
DTEND;VALUE=DATE:20230122
DTSTAMP:20260422T005542
CREATED:20230908T193024Z
LAST-MODIFIED:20230908T193024Z
UID:12028-1674259200-1674345599@carmelitemissionstz.org
SUMMARY:Fr Vivian Menezes OCD
DESCRIPTION:
URL:https://carmelitemissionstz.org/event/fr-vivian-menezes-ocd/
CATEGORIES:Carmelite Friars' Birthday Birthday
ATTACH;FMTTYPE=image/png:https://carmelitemissionstz.org/wp-content/uploads/2023/08/Vivian.png
ORGANIZER;CN="Carmelite Fathers%2C Tanzania":MAILTO:carmelitemissionstz@gmail.com
END:VEVENT
BEGIN:VEVENT
DTSTART;VALUE=DATE:20230115
DTEND;VALUE=DATE:20230116
DTSTAMP:20260422T005542
CREATED:20230908T192921Z
LAST-MODIFIED:20230908T192921Z
UID:12026-1673740800-1673827199@carmelitemissionstz.org
SUMMARY:Fr Nelson Osmond Vaz OCD
DESCRIPTION:
URL:https://carmelitemissionstz.org/event/fr-nelson-osmond-vaz-ocd/
CATEGORIES:Carmelite Friars' Birthday Birthday
ATTACH;FMTTYPE=image/png:https://carmelitemissionstz.org/wp-content/uploads/2023/08/Nelson.png
ORGANIZER;CN="Carmelite Fathers%2C Tanzania":MAILTO:carmelitemissionstz@gmail.com
END:VEVENT
END:VCALENDAR